BEGIN:VCALENDAR
VERSION:2.0
PRODID:-//Date iCal//NONSGML kigkonsult.se iCalcreator 2.20.2//
METHOD:PUBLISH
BEGIN:VTIMEZONE
TZID:America/New_York
BEGIN:STANDARD
DTSTART:20251102T020000
TZOFFSETFROM:-0400
TZOFFSETTO:-0500
RDATE:20261101T020000
TZNAME:EST
END:STANDARD
BEGIN:DAYLIGHT
DTSTART:20260308T020000
TZOFFSETFROM:-0500
TZOFFSETTO:-0400
TZNAME:EDT
END:DAYLIGHT
END:VTIMEZONE
BEGIN:VEVENT
UID:calendar.26840.field_date_2.0@www.myccp.online
DTSTAMP:20260420T014842Z
CREATED:20260417T033247Z
DESCRIPTION:Join us for Pizza with the President\, a casual lunchtime oppor
 tunity for students to connect\, share ideas\, and enjoy pizza with our Co
 llege President\, Dr. Marshall!\nEvent Details:\n\n\nDate: Wednesday\, Apr
 il 22\nTime: 12:00–1:00 p.m.\nLocation: Winnet Lobby\n\n\nThis informal ga
 thering is a great chance to:\n\n\nMeet and talk with the President\nAsk q
 uestions and share your experiences\nEnjoy free pizza with fellow students
 \n\n\nPizza will be provided while supplies last. All students are welcome
 !\n\n\n \n\n\nHosted by: Office of Student Engagement\n\n\nAdditional Info
 rmation can be found at: https://prideportal.ccp.edu/event/12431750
DTSTART;TZID=America/New_York:20260422T120000
DTEND;TZID=America/New_York:20260422T130000
LAST-MODIFIED:20260417T033247Z
SUMMARY:Pizza with the President
URL;TYPE=URI:https://www.myccp.online/student-life-center/events/2026/04/22
 /pizza-president
END:VEVENT
END:VCALENDAR
