BEGIN:VCALENDAR
VERSION:2.0
PRODID:-//Date iCal//NONSGML kigkonsult.se iCalcreator 2.20.2//
METHOD:PUBLISH
BEGIN:VTIMEZONE
TZID:America/New_York
BEGIN:STANDARD
DTSTART:20251102T020000
TZOFFSETFROM:-0400
TZOFFSETTO:-0500
RDATE:20261101T020000
TZNAME:EST
END:STANDARD
BEGIN:DAYLIGHT
DTSTART:20260308T020000
TZOFFSETFROM:-0500
TZOFFSETTO:-0400
TZNAME:EDT
END:DAYLIGHT
END:VTIMEZONE
BEGIN:VEVENT
UID:calendar.26839.field_date_2.0@www.myccp.online
DTSTAMP:20260420T034527Z
CREATED:20260417T033247Z
DESCRIPTION:Join the Creative Arts Pathway for a Registration Event designe
 d to help students in the Creative Arts get ready for the upcoming summer 
 and fall semesters. This is a great opportunity to connect with faculty an
 d academic advising and counseling staff from Music\, Theatre\, Photograph
 y / DVP\, and Art & Design—all in one place.\n \nInformation and Q & A for
  each department at the following times:\nMusic 11:30 AM | Theater 12 PM |
  Photo / DVP 12:30 PM | Art & Design 1:00 PM\n \nYou’ll learn about import
 ant curriculum updates\, explore course options\, and receive personalized
  support with course selection and registration. Whether you already have 
 a plan or need help figuring out your next steps\, this event is here to s
 upport you and keep you on track.\nStop by\, get your questions answered\,
  and take the next step in your academic journey—snacks will be provided!
 \n \nPlease be certain to have a device with you to help access online inf
 ormation regarding advising\, counseling\, and registration.\n \nFor more 
 information\, contact Professor Desmond at mdesmond@ccp.edu. \n \n\n\nHost
 ed by: Counseling Center\, Creative Arts Academic Pathway\, Division of Li
 beral Studies\, Department of Academic Advising \n\n\nAdditional Informati
 on can be found at: https://prideportal.ccp.edu/event/12430518
DTSTART;TZID=America/New_York:20260420T113000
DTEND;TZID=America/New_York:20260420T143000
LAST-MODIFIED:20260417T033247Z
SUMMARY:Creative Arts Pathway Registration Day Event
URL;TYPE=URI:https://www.myccp.online/student-life-center/events/2026/04/20
 /creative-arts-pathway-registration-day-event
END:VEVENT
END:VCALENDAR
